BEGIN:VCALENDAR
VERSION:2.0
PRODID:-//wp-events-plugin.com//6.4.6.4//EN
BEGIN:VEVENT
UID:2@parabat.org.za
DTSTART:20220909T180000Z
DTEND:20220909T220000Z
DTSTAMP:20220829T170727Z
URL:https://parabat.org.za/CALENDAR/fs-bloem-canopy-maandelikse-vergaderin
 g/
SUMMARY:FS Bloem Canopy Maandelikse Vergadering
DESCRIPTION:FS Bloem Canopy Maandelikse Vergadering
CATEGORIES:Canopy Byeenkomste
LOCATION:Horizon Stables\, Horizon Stables \, Bloemfontein\, South Africa
X-APPLE-STRUCTURED-LOCATION;VALUE=URI;X-ADDRESS=Horizon Stables \, Bloemfon
 tein\, South Africa;X-APPLE-RADIUS=100;X-TITLE=Horizon Stables:geo:0,0
END:VEVENT
END:VCALENDAR