BEGIN:VCALENDAR
VERSION:2.0
PRODID:-//wp-events-plugin.com//6.4.6.4//EN
BEGIN:VEVENT
UID:1@parabat.org.za
DTSTART;TZID=Africa/Johannesburg:20220909T180000
DTEND;TZID=Africa/Johannesburg:20220909T220000
DTSTAMP:20220829T171137Z
URL:https://parabat.org.za/CALENDAR/pvo-pretoria-canopy-meeting/
SUMMARY:PVO Pretoria Canopy Meeting
DESCRIPTION:MOTH Dugout - DROPZONE
CATEGORIES:Canopy Byeenkomste
LOCATION:DropZone\, 139 Glover avenue \, Centurion\, South Africa
X-APPLE-STRUCTURED-LOCATION;VALUE=URI;X-ADDRESS=139 Glover avenue \, Centur
 ion\, South Africa;X-APPLE-RADIUS=100;X-TITLE=DropZone:geo:0,0
END:VEVENT
BEGIN:VTIMEZONE
TZID:Africa/Johannesburg
X-LIC-LOCATION:Africa/Johannesburg
BEGIN:STANDARD
DTSTART:20210909T180000
TZOFFSETFROM:+0200
TZOFFSETTO:+0200
TZNAME:SAST
END:STANDARD
END:VTIMEZONE
END:VCALENDAR